BEGIN:VCALENDAR
VERSION:2.0
PRODID:-//Drupal iCal API//EN
X-WR-CALNAME:Events items teaser
X-WR-TIMEZONE:America/Toronto
BEGIN:VTIMEZONE
TZID:America/Toronto
X-LIC-LOCATION:America/Toronto
BEGIN:DAYLIGHT
TZNAME:EDT
TZOFFSETFROM:-0500
TZOFFSETTO:-0400
DTSTART:20200308T070000
END:DAYLIGHT
BEGIN:STANDARD
TZNAME:EST
TZOFFSETFROM:-0400
TZOFFSETTO:-0500
DTSTART:20191103T060000
END:STANDARD
END:VTIMEZONE
BEGIN:VEVENT
UID:69d4b6bbaefc6
DTSTART;TZID=America/Toronto:20201028T121000
SEQUENCE:0
TRANSP:TRANSPARENT
DTEND;TZID=America/Toronto:20201028T130000
URL:https://uwaterloo.ca/bioengineering-biotechnology/events/profs-present-
 sean-meehan-october-2020
LOCATION:ONLINE via Zoom Canada
SUMMARY:PROFS PRESENT ... Cognitive-Motor Interactions and Implications\nPo
 st-Stroke
CLASS:PUBLIC
DESCRIPTION:CBB PROFS PRESENT...COGNITIVE-MOTOR INTERACTIONS AND THEIR\nIMP
 LICATIONS FOR MOTOR LEARNING-BASED INTERVENTIONS POST-STROKE WITH\nSEAN ME
 EHAN\n\nThe efficacy of skilled practice in promoting beneficial brain\nre
 organization to affect functional recovery has long been\nappreciated. How
 ever\, current best practices to stroke rehabilitation\nare labour intensi
 ve and characterized by variable levels of\nfunctional recovery. In many c
 ases\, recovery of function in the\nstroke-affected limb is incomplete.
DTSTAMP:20260407T074811Z
END:VEVENT
END:VCALENDAR