BEGIN:VCALENDAR
VERSION:2.0
PRODID:-//Drupal iCal API//EN
X-WR-CALNAME:Events items teaser
X-WR-TIMEZONE:America/Toronto
BEGIN:VTIMEZONE
TZID:America/Toronto
X-LIC-LOCATION:America/Toronto
BEGIN:DAYLIGHT
TZNAME:EDT
TZOFFSETFROM:-0500
TZOFFSETTO:-0400
DTSTART:20200308T070000
END:DAYLIGHT
BEGIN:STANDARD
TZNAME:EST
TZOFFSETFROM:-0400
TZOFFSETTO:-0500
DTSTART:20201101T060000
END:STANDARD
END:VTIMEZONE
BEGIN:VEVENT
UID:69d4b36127813
DTSTART;TZID=America/New_York:20210127T121000
SEQUENCE:0
TRANSP:TRANSPARENT
DTEND;TZID=America/New_York:20210127T121000
URL:https://uwaterloo.ca/bioengineering-biotechnology/events/profs-present-
 grief-lets-talk-about-it
SUMMARY:PROFS PRESENT ... Grief: Let's talk about it
CLASS:PUBLIC
DESCRIPTION:IN THIS REGULAR SERIES\, UNIVERSITY OF WATERLOO PROFESSORS PRES
 ENT\n[https://uwaterloo.ca/bioengineering-biotechnology/events/profs-prese
 nt]\nTHEIR RESEARCH IN MEDICALLY RELEVANT AREAS TO PRACTICING CLINICIANS\n
 FROM GRAND RIVER HOSPITAL\n\nABOUT THIS EVENT\n\nThe January 2021 session 
 hosts Professor Susan Cadell and her work on\nGrief.
DTSTAMP:20260407T073353Z
END:VEVENT
END:VCALENDAR