BEGIN:VCALENDAR
VERSION:2.0
PRODID:-//Drupal iCal API//EN
X-WR-CALNAME:Events items teaser
X-WR-TIMEZONE:America/Toronto
BEGIN:VTIMEZONE
TZID:America/Toronto
X-LIC-LOCATION:America/Toronto
BEGIN:DAYLIGHT
TZNAME:EDT
TZOFFSETFROM:-0500
TZOFFSETTO:-0400
DTSTART:20200308T070000
END:DAYLIGHT
BEGIN:STANDARD
TZNAME:EST
TZOFFSETFROM:-0400
TZOFFSETTO:-0500
DTSTART:20201101T060000
END:STANDARD
END:VTIMEZONE
BEGIN:VEVENT
UID:69d4b3a6d269b
DTSTART;TZID=America/New_York:20210224T121000
SEQUENCE:0
TRANSP:TRANSPARENT
DTEND;TZID=America/New_York:20210224T130000
URL:https://uwaterloo.ca/bioengineering-biotechnology/events/profs-present-
 boredom-call-action
SUMMARY:PROFS PRESENT ... Boredom: A call to action
CLASS:PUBLIC
DESCRIPTION:IN THIS REGULAR SERIES\, UNIVERSITY OF WATERLOO PROFESSORS PRE
 SENT\n[https://uwaterloo.ca/bioengineering-biotechnology/events/profs-pres
 ent] THEIR\nRESEARCH IN MEDICALLY RELEVANT AREAS TO PRACTICING CLINICIANS
  FROM\nGRAND RIVER HOSPITAL\n\nABOUT THIS EVENT\n\nThe February 2021 sessi
 on hosts Professor James Danckert\n[https://uwaterloo.ca/psychology/people
 -profiles/james-danckert] and\nhis work on boredom.
DTSTAMP:20260407T073502Z
END:VEVENT
END:VCALENDAR