BEGIN:VCALENDAR
VERSION:2.0
PRODID:-//Drupal iCal API//EN
X-WR-CALNAME:Events items teaser
X-WR-TIMEZONE:America/Toronto
BEGIN:VTIMEZONE
TZID:America/Toronto
X-LIC-LOCATION:America/Toronto
BEGIN:DAYLIGHT
TZNAME:EDT
TZOFFSETFROM:-0500
TZOFFSETTO:-0400
DTSTART:20210314T070000
END:DAYLIGHT
BEGIN:STANDARD
TZNAME:EST
TZOFFSETFROM:-0400
TZOFFSETTO:-0500
DTSTART:20201101T060000
END:STANDARD
END:VTIMEZONE
BEGIN:VEVENT
UID:69d4ec522e5e1
DTSTART;TZID=America/Toronto:20210331T130000
SEQUENCE:0
TRANSP:TRANSPARENT
DTEND;TZID=America/Toronto:20210331T130000
URL:https://uwaterloo.ca/bioengineering-biotechnology/events/cbb-presents-s
 ystem-level-test-and-maturity-grid-risk
LOCATION:ONLINE via Webex Canada
SUMMARY:CBB presents: System Level Test and Maturity Grid Risk Management w
 ith\nAbdul Khalfan
CLASS:PUBLIC
DESCRIPTION:QMS WEBINAR SERIES: SYSTEM LEVEL TEST AND MATURITY GRID RISK\nM
 ANAGEMENT\n\nSPEAKER: ABDUL KHALFAN CQE\, SSGB\n\nPRINCIPAL\, QUALITY ASSU
 RANCE &amp; RELIABILITY ENGINEERING CONSULTING\nSERVICES
DTSTAMP:20260407T113650Z
END:VEVENT
END:VCALENDAR