BEGIN:VCALENDAR
VERSION:2.0
PRODID:-//Drupal iCal API//EN
X-WR-CALNAME:Events items teaser
X-WR-TIMEZONE:America/Toronto
BEGIN:VTIMEZONE
TZID:America/Toronto
X-LIC-LOCATION:America/Toronto
BEGIN:DAYLIGHT
TZNAME:EDT
TZOFFSETFROM:-0500
TZOFFSETTO:-0400
DTSTART:20210314T070000
END:DAYLIGHT
BEGIN:STANDARD
TZNAME:EST
TZOFFSETFROM:-0400
TZOFFSETTO:-0500
DTSTART:20201101T060000
END:STANDARD
END:VTIMEZONE
BEGIN:VEVENT
UID:69d4ea0f5c515
DTSTART;TZID=America/Toronto:20210428T130000
SEQUENCE:0
TRANSP:TRANSPARENT
DTEND;TZID=America/Toronto:20210428T130000
URL:https://uwaterloo.ca/bioengineering-biotechnology/events/failure-mode-e
 ffective-analysis
LOCATION:ONLINE via Webex Canada
SUMMARY:Failure Mode Effective Analysis
CLASS:PUBLIC
DESCRIPTION:QMS WEBINAR SERIES: FAILURE MODE EFFECTIVE ANALYSIS\n\nSPEAKER:
  ABDUL KHALFAN CQE\, SSGB\n\nPRINCIPAL\, QUALITY ASSURANCE &amp; RELIABILITY E
 NGINEERING CONSULTING\nSERVICES
DTSTAMP:20260407T112711Z
END:VEVENT
END:VCALENDAR