BEGIN:VCALENDAR
VERSION:2.0
PRODID:-//Drupal iCal API//EN
X-WR-CALNAME:Events items teaser
X-WR-TIMEZONE:America/Toronto
BEGIN:VTIMEZONE
TZID:America/Toronto
X-LIC-LOCATION:America/Toronto
BEGIN:DAYLIGHT
TZNAME:EDT
TZOFFSETFROM:-0500
TZOFFSETTO:-0400
DTSTART:20210314T070000
END:DAYLIGHT
BEGIN:STANDARD
TZNAME:EST
TZOFFSETFROM:-0400
TZOFFSETTO:-0500
DTSTART:20201101T060000
END:STANDARD
END:VTIMEZONE
BEGIN:VEVENT
UID:69d4b493e212c
DTSTART;TZID=America/Toronto:20210526T120500
SEQUENCE:0
TRANSP:TRANSPARENT
DTEND;TZID=America/Toronto:20210526T130000
URL:https://uwaterloo.ca/bioengineering-biotechnology/events/profs-present-
 why-are-compulsions-so-compelling
SUMMARY:Profs Present: “Why Are Compulsions so Compelling?”
CLASS:PUBLIC
DESCRIPTION:PROFS PRESENT: “WHY ARE COMPULSIONS SO COMPELLING?”\n\nSPEA
 KERS: CHRISTINE PURDON
DTSTAMP:20260407T073859Z
END:VEVENT
END:VCALENDAR