BEGIN:VCALENDAR
VERSION:2.0
PRODID:-//Drupal iCal API//EN
X-WR-CALNAME:Events items teaser
X-WR-TIMEZONE:America/Toronto
BEGIN:VTIMEZONE
TZID:America/Toronto
X-LIC-LOCATION:America/Toronto
BEGIN:DAYLIGHT
TZNAME:EDT
TZOFFSETFROM:-0500
TZOFFSETTO:-0400
DTSTART:20210314T070000
END:DAYLIGHT
BEGIN:STANDARD
TZNAME:EST
TZOFFSETFROM:-0400
TZOFFSETTO:-0500
DTSTART:20201101T060000
END:STANDARD
END:VTIMEZONE
BEGIN:VEVENT
UID:69d4b4cd67753
DTSTART;TZID=America/Toronto:20210623T121000
SEQUENCE:0
TRANSP:TRANSPARENT
DTEND;TZID=America/Toronto:20210623T130000
URL:https://uwaterloo.ca/bioengineering-biotechnology/events/profs-present-
 coming-together-seams-engaging-older-patients
SUMMARY:Profs Present: Coming together at the seams: engaging older patient
 s\nand families across care transitions
CLASS:PUBLIC
DESCRIPTION:COMING TOGETHER AT THE SEAMS: ENGAGING OLDER PATIENTS AND FAMIL
 IES\nACROSS CARE TRANSITIONS WEBINAR\n\n [Coming together at the seams: en
 gaging older patients and families\nacross care transitions]  
DTSTAMP:20260407T073957Z
END:VEVENT
END:VCALENDAR