BEGIN:VCALENDAR
VERSION:2.0
PRODID:-//Drupal iCal API//EN
X-WR-CALNAME:Events items teaser
X-WR-TIMEZONE:America/Toronto
BEGIN:VTIMEZONE
TZID:America/Toronto
X-LIC-LOCATION:America/Toronto
BEGIN:DAYLIGHT
TZNAME:EDT
TZOFFSETFROM:-0500
TZOFFSETTO:-0400
DTSTART:20210314T070000
END:DAYLIGHT
BEGIN:STANDARD
TZNAME:EST
TZOFFSETFROM:-0400
TZOFFSETTO:-0500
DTSTART:20201101T060000
END:STANDARD
END:VTIMEZONE
BEGIN:VEVENT
UID:69d4b50730cca
DTSTART;TZID=America/Toronto:20210922T120000
SEQUENCE:0
TRANSP:TRANSPARENT
DTEND;TZID=America/Toronto:20210922T130000
URL:https://uwaterloo.ca/bioengineering-biotechnology/events/profs-present-
 wont-someone-please-think-parents-multilevel
SUMMARY:Profs Present: \"Wont someone please think of the parents!\" A\nmul
 tilevel examination of family stress during COVID-19
CLASS:PUBLIC
DESCRIPTION:\"WONT SOMEONE PLEASE THINK OF THE PARENTS!\" - A MULTILEVEL\n
 EXAMINATION OF FAMILY STRESS DURING COVID-19\n\n [Profs Present: Dillon Br
 owne Graphic]
DTSTAMP:20260407T074055Z
END:VEVENT
END:VCALENDAR