BEGIN:VCALENDAR
VERSION:2.0
PRODID:-//Drupal iCal API//EN
X-WR-CALNAME:Events items teaser
X-WR-TIMEZONE:America/Toronto
BEGIN:VTIMEZONE
TZID:America/Toronto
X-LIC-LOCATION:America/Toronto
BEGIN:DAYLIGHT
TZNAME:EDT
TZOFFSETFROM:-0500
TZOFFSETTO:-0400
DTSTART:20210314T070000
END:DAYLIGHT
BEGIN:STANDARD
TZNAME:EST
TZOFFSETFROM:-0400
TZOFFSETTO:-0500
DTSTART:20201101T060000
END:STANDARD
END:VTIMEZONE
BEGIN:VEVENT
UID:69d4b53e811ad
DTSTART;TZID=America/Toronto:20211020T121000
SEQUENCE:0
TRANSP:TRANSPARENT
DTEND;TZID=America/Toronto:20211020T130000
URL:https://uwaterloo.ca/bioengineering-biotechnology/events/profs-present-
 co-operation-or-compulsion-ontarios
SUMMARY:Profs Present: Co-operation or Compulsion? Ontario's Immunization o
 f\nSchool Pupils Act\, 1977-2021
CLASS:PUBLIC
DESCRIPTION:[Heather MacDougall Webinar Graphic] \n\nABSTRACT\n\nAs Ontario
  battles COIVD-19\, local health units are faced with vaccine\nhesitancy a
 nd the challenge of immunizing children aged 5-11 now that\nPfizer BionTec
 h's vaccine is seeking federal approval.
DTSTAMP:20260407T074150Z
END:VEVENT
END:VCALENDAR