BEGIN:VCALENDAR
VERSION:2.0
PRODID:-//Drupal iCal API//EN
X-WR-CALNAME:Events items teaser
X-WR-TIMEZONE:America/Toronto
BEGIN:VTIMEZONE
TZID:America/Toronto
X-LIC-LOCATION:America/Toronto
BEGIN:DAYLIGHT
TZNAME:EDT
TZOFFSETFROM:-0500
TZOFFSETTO:-0400
DTSTART:20210314T070000
END:DAYLIGHT
BEGIN:STANDARD
TZNAME:EST
TZOFFSETFROM:-0400
TZOFFSETTO:-0500
DTSTART:20211107T060000
END:STANDARD
END:VTIMEZONE
BEGIN:VEVENT
UID:69d4b11f0d9a8
DTSTART;TZID=America/Toronto:20220223T121000
SEQUENCE:0
TRANSP:TRANSPARENT
DTEND;TZID=America/Toronto:20220223T130000
URL:https://uwaterloo.ca/bioengineering-biotechnology/events/profs-present-
 freezing-gait-its-stressful
SUMMARY:Profs Present: Freezing of Gait – It’s stressful
CLASS:PUBLIC
DESCRIPTION:ABSTRACT\n\nFreezing of gait is a troublesome and debilitating 
 symptom of\nParkinson's disease. Although the cause of freezing of gait re
 mains\nunknown\, recent research has highlighted a potential role of stres
 s\nand anxiety.
DTSTAMP:20260407T072415Z
END:VEVENT
END:VCALENDAR