BEGIN:VCALENDAR
VERSION:2.0
PRODID:-//Drupal iCal API//EN
X-WR-CALNAME:Events items teaser
X-WR-TIMEZONE:America/Toronto
BEGIN:VTIMEZONE
TZID:America/Toronto
X-LIC-LOCATION:America/Toronto
BEGIN:DAYLIGHT
TZNAME:EDT
TZOFFSETFROM:-0500
TZOFFSETTO:-0400
DTSTART:20220313T070000
END:DAYLIGHT
BEGIN:STANDARD
TZNAME:EST
TZOFFSETFROM:-0400
TZOFFSETTO:-0500
DTSTART:20211107T060000
END:STANDARD
END:VTIMEZONE
BEGIN:VEVENT
UID:69d4b1e59796b
DTSTART;TZID=America/New_York:20220525T121000
SEQUENCE:0
TRANSP:TRANSPARENT
DTEND;TZID=America/New_York:20220525T130000
URL:https://uwaterloo.ca/bioengineering-biotechnology/events/profs-present-
 technology-managing-medications-home-factors
SUMMARY:Profs Present: Technology for Managing Medications at Home: Factors
 \nfor Consideration
CLASS:PUBLIC
DESCRIPTION:ABSTRACT\n\nSafe use of medications at home is imperative to en
 able successful\naging at home.  A decline in capacity to manage medicati
 ons can\nimpact medication errors\, adverse events\, adherence and result 
 in poor\nhealth outcomes\, hospitalization and loss of independent living 
 at\nhome.  Emerging medication technology has the potential to address\n
 medication management challenges.  However
DTSTAMP:20260407T072733Z
END:VEVENT
END:VCALENDAR