BEGIN:VCALENDAR
VERSION:2.0
PRODID:-//Drupal iCal API//EN
X-WR-CALNAME:Events items teaser
X-WR-TIMEZONE:America/Toronto
BEGIN:VTIMEZONE
TZID:America/Toronto
X-LIC-LOCATION:America/Toronto
BEGIN:DAYLIGHT
TZNAME:EDT
TZOFFSETFROM:-0500
TZOFFSETTO:-0400
DTSTART:20220313T070000
END:DAYLIGHT
BEGIN:STANDARD
TZNAME:EST
TZOFFSETFROM:-0400
TZOFFSETTO:-0500
DTSTART:20211107T060000
END:STANDARD
END:VTIMEZONE
BEGIN:VEVENT
UID:69d4b2245bde5
DTSTART;TZID=America/New_York:20220629T121000
SEQUENCE:0
TRANSP:TRANSPARENT
DTEND;TZID=America/New_York:20220629T130000
URL:https://uwaterloo.ca/bioengineering-biotechnology/events/profs-present-
 environmental-sustainability-healthcare
SUMMARY:Profs Present: Environmental sustainability in healthcare
CLASS:PUBLIC
DESCRIPTION:ABSTRACT\n[/bioengineering-biotechnology/events/profs-present-e
 nvironmental-sustainability-healthcare]\n\nHealthcare is a critical and co
 mplex service sector with a sizable\nenvironmental “footprint” – wit
 h greenhouse gas emissions\nestimated at 5-10% of the national total in de
 veloped economies like\nCanada and the USA.
DTSTAMP:20260407T072836Z
END:VEVENT
END:VCALENDAR