BEGIN:VCALENDAR
VERSION:2.0
PRODID:-//Drupal iCal API//EN
X-WR-CALNAME:Events items teaser
X-WR-TIMEZONE:America/Toronto
BEGIN:VTIMEZONE
TZID:America/Toronto
X-LIC-LOCATION:America/Toronto
BEGIN:DAYLIGHT
TZNAME:EDT
TZOFFSETFROM:-0500
TZOFFSETTO:-0400
DTSTART:20220313T070000
END:DAYLIGHT
BEGIN:STANDARD
TZNAME:EST
TZOFFSETFROM:-0400
TZOFFSETTO:-0500
DTSTART:20211107T060000
END:STANDARD
END:VTIMEZONE
BEGIN:VEVENT
UID:69d4b2e767f4a
DTSTART;TZID=America/New_York:20221026T121000
SEQUENCE:0
TRANSP:TRANSPARENT
DTEND;TZID=America/New_York:20221026T130000
URL:https://uwaterloo.ca/bioengineering-biotechnology/events/profs-present-
 fatty-links-protein-mislocalization-and
SUMMARY:Profs Present: Fatty links to protein mislocalization and\nneurodeg
 eneration
CLASS:PUBLIC
DESCRIPTION:ABSTRACT\n[/bioengineering-biotechnology/events/profs-present-e
 nvironmental-sustainability-healthcare]\n\nProtein mislocalization and pro
 teostasis deficiencies are two primary\nhallmark features of neurodegenera
 tion.
DTSTAMP:20260407T073151Z
END:VEVENT
END:VCALENDAR