BEGIN:VCALENDAR
VERSION:2.0
PRODID:-//Drupal iCal API//EN
X-WR-CALNAME:Events items teaser
X-WR-TIMEZONE:America/Toronto
BEGIN:VTIMEZONE
TZID:America/Toronto
X-LIC-LOCATION:America/Toronto
BEGIN:DAYLIGHT
TZNAME:EDT
TZOFFSETFROM:-0500
TZOFFSETTO:-0400
DTSTART:20220313T070000
END:DAYLIGHT
BEGIN:STANDARD
TZNAME:EST
TZOFFSETFROM:-0400
TZOFFSETTO:-0500
DTSTART:20221106T060000
END:STANDARD
END:VTIMEZONE
BEGIN:VEVENT
UID:69d4b32eb99da
DTSTART;TZID=America/New_York:20221123T121000
SEQUENCE:0
TRANSP:TRANSPARENT
DTEND;TZID=America/New_York:20221123T130000
URL:https://uwaterloo.ca/bioengineering-biotechnology/events/profs-present-
 drawing-reliable-technique-boost-memory
SUMMARY:Profs Present: Drawing as a reliable technique to boost memory
CLASS:PUBLIC
DESCRIPTION:Sketchnoting has recently emerged in popular culture\, as an\na
 lternative to writing text-based notes\; it incorporates graphics and\nill
 ustrations as a means to record and remember materials presented in\nlectu
 res\, and meetings.
DTSTAMP:20260407T073302Z
END:VEVENT
END:VCALENDAR