BEGIN:VCALENDAR
VERSION:2.0
PRODID:-//Drupal iCal API//EN
X-WR-CALNAME:Events items teaser
X-WR-TIMEZONE:America/Toronto
BEGIN:VTIMEZONE
TZID:America/Toronto
X-LIC-LOCATION:America/Toronto
BEGIN:DAYLIGHT
TZNAME:EDT
TZOFFSETFROM:-0500
TZOFFSETTO:-0400
DTSTART:20220313T070000
END:DAYLIGHT
BEGIN:STANDARD
TZNAME:EST
TZOFFSETFROM:-0400
TZOFFSETTO:-0500
DTSTART:20221106T060000
END:STANDARD
END:VTIMEZONE
BEGIN:VEVENT
UID:69d4b04c8438a
DTSTART;TZID=America/New_York:20230125T121000
SEQUENCE:0
TRANSP:TRANSPARENT
DTEND;TZID=America/New_York:20230125T130000
URL:https://uwaterloo.ca/bioengineering-biotechnology/events/profs-present-
 web-accessible-population-pharmacokinetic
SUMMARY:Profs Present: Web-Accessible Population Pharmacokinetic\nService-H
 emophilia (WAPPS-Hemo.org): modeling on a global scale to\ndose optimize c
 lotting factor prophylaxis in hemophilia patients
CLASS:PUBLIC
DESCRIPTION:The Web-Accessible Population Pharmacokinetic Service – Hemop
 hilia\n[https://www.wapps-hemo.org/] (WAPPS-Hemo) is a clinical decision\n
 support tool aimed at using pharmacokinetics of prophylactic clotting\nfac
 tor replacement therapy as a means for individu
DTSTAMP:20260407T072044Z
END:VEVENT
END:VCALENDAR