BEGIN:VCALENDAR
VERSION:2.0
PRODID:-//Drupal iCal API//EN
X-WR-CALNAME:Events items teaser
X-WR-TIMEZONE:America/Toronto
BEGIN:VTIMEZONE
TZID:America/Toronto
X-LIC-LOCATION:America/Toronto
BEGIN:DAYLIGHT
TZNAME:EDT
TZOFFSETFROM:-0500
TZOFFSETTO:-0400
DTSTART:20230312T070000
END:DAYLIGHT
BEGIN:STANDARD
TZNAME:EST
TZOFFSETFROM:-0400
TZOFFSETTO:-0500
DTSTART:20221106T060000
END:STANDARD
END:VTIMEZONE
BEGIN:VEVENT
UID:69d4b07f6eae6
DTSTART;TZID=America/New_York:20230322T121000
SEQUENCE:0
TRANSP:TRANSPARENT
DTEND;TZID=America/New_York:20230322T130000
URL:https://uwaterloo.ca/bioengineering-biotechnology/events/profs-present-
 wearable-sensors-inform-mobility-and-health
LOCATION:zoom Canada
SUMMARY:Profs Present: Wearable sensors to inform mobility and health: Nove
 l\napplications and advances in methodology
CLASS:PUBLIC
DESCRIPTION:Profs Present: Wearable sensors to inform mobility and health: 
 Novel\napplications and advances in methodology
DTSTAMP:20260407T072135Z
END:VEVENT
END:VCALENDAR