BEGIN:VCALENDAR
VERSION:2.0
PRODID:-//Drupal iCal API//EN
X-WR-CALNAME:Events items teaser
X-WR-TIMEZONE:America/Toronto
BEGIN:VTIMEZONE
TZID:America/Toronto
X-LIC-LOCATION:America/Toronto
BEGIN:DAYLIGHT
TZNAME:EDT
TZOFFSETFROM:-0500
TZOFFSETTO:-0400
DTSTART:20230312T070000
END:DAYLIGHT
BEGIN:STANDARD
TZNAME:EST
TZOFFSETFROM:-0400
TZOFFSETTO:-0500
DTSTART:20221106T060000
END:STANDARD
END:VTIMEZONE
BEGIN:VEVENT
UID:69d4b0eb069b8
DTSTART;TZID=America/New_York:20230628T121000
SEQUENCE:0
TRANSP:TRANSPARENT
DTEND;TZID=America/New_York:20230628T130000
URL:https://uwaterloo.ca/bioengineering-biotechnology/events/profs-present-
 shaping-environments-shape-our-health-can-we
SUMMARY:Profs Present - Shaping The Environments That Shape Our Health: Can
  We\nDesign Cities to Promote Adolescent Mental Health?
CLASS:PUBLIC
DESCRIPTION:I am a public health and planning researcher whose work centr
 ally\nexplores how urban environments and their component physical\nlandsc
 apes and social contexts impact human health and wellbeing\, with\na speci
 fic focus on youth populations.
DTSTAMP:20260407T072323Z
END:VEVENT
END:VCALENDAR