BEGIN:VCALENDAR
VERSION:2.0
PRODID:-//Drupal iCal API//EN
X-WR-CALNAME:Events items teaser
X-WR-TIMEZONE:America/Toronto
BEGIN:VTIMEZONE
TZID:America/Toronto
X-LIC-LOCATION:America/Toronto
BEGIN:DAYLIGHT
TZNAME:EDT
TZOFFSETFROM:-0500
TZOFFSETTO:-0400
DTSTART:20230312T070000
END:DAYLIGHT
BEGIN:STANDARD
TZNAME:EST
TZOFFSETFROM:-0400
TZOFFSETTO:-0500
DTSTART:20221106T060000
END:STANDARD
END:VTIMEZONE
BEGIN:VEVENT
UID:69e64a95c214d
DTSTART;TZID=America/New_York:20230629T110000
SEQUENCE:0
TRANSP:TRANSPARENT
DTEND;TZID=America/New_York:20230629T133000
URL:https://uwaterloo.ca/bioengineering-biotechnology/events/games-institut
 e-cbb-research-speed-dating-bbq
LOCATION:EC1 - East Campus 1 200 University Ave West 1323 Waterloo ON N2L 3
 G1 Canada
SUMMARY:Games Institute-CBB Research Speed-dating &amp; BBQ
CLASS:PUBLIC
DESCRIPTION:CBB and GI members are invited to a Games Institute – Centre 
 for\nBioengineering and Biotechnology Research Speed Dating event. The\nR
 esearch Speed Dating will allow members from both institutions to\ninterac
 t and learn more about interdisciplinary research projects as\nwell as res
 earch they can potentially implement in their own work.
DTSTAMP:20260420T154733Z
END:VEVENT
END:VCALENDAR