BEGIN:VCALENDAR
VERSION:2.0
PRODID:-//Drupal iCal API//EN
X-WR-CALNAME:Events items teaser
X-WR-TIMEZONE:America/Toronto
BEGIN:VTIMEZONE
TZID:America/Toronto
X-LIC-LOCATION:America/Toronto
BEGIN:DAYLIGHT
TZNAME:EDT
TZOFFSETFROM:-0500
TZOFFSETTO:-0400
DTSTART:20230312T070000
END:DAYLIGHT
BEGIN:STANDARD
TZNAME:EST
TZOFFSETFROM:-0400
TZOFFSETTO:-0500
DTSTART:20221106T060000
END:STANDARD
BEGIN:STANDARD
TZNAME:EST
TZOFFSETFROM:-0400
TZOFFSETTO:-0500
DTSTART:20231105T060000
END:STANDARD
END:VTIMEZONE
BEGIN:VEVENT
UID:69e88c65b23c3
DTSTART;TZID=America/Toronto:20230919T160000
SEQUENCE:0
TRANSP:TRANSPARENT
DTEND;TZID=America/Toronto:20230919T170000
URL:https://uwaterloo.ca/biology/events/ecoevo-journal-club-0
LOCATION:B2\, Room 256 200 University Avenue West Waterloo ON N2L 3G1 Canad
 a
SUMMARY:EcoEvo Journal Club
CLASS:PUBLIC
DESCRIPTION:MEETINGS ARE IN PERSON IN B2-256. \n\nEVERYONE IS WELCOME. ALL
  CAREER STAGES AND ALL DEPARTMENTS.\n\n_Want to join remotely? Let Hanna k
 now at least 2 days in advance and\nwe will get things setup (hhickey@uwat
 erloo.ca). _\n\nSign up to the WEN listserve\n[https://weebly.us20.list-ma
 nage.com/track/click?u=cee56d0152c33840fc467db20&amp;id=3a6d9fdea9&amp;e=b7e33ac5f
 f]\nto receive future Journal Club announcements.\n\nSee our full schedule
 . \n[https://uwaterloo.ca/biology/events/ecoevo-journal-club-0]
DTSTAMP:20260422T085253Z
END:VEVENT
BEGIN:VEVENT
UID:69e88c65ba256
DTSTART;TZID=America/Toronto:20231003T160000
SEQUENCE:0
TRANSP:TRANSPARENT
DTEND;TZID=America/Toronto:20231003T170000
URL:https://uwaterloo.ca/biology/events/ecoevo-journal-club-0
LOCATION:B2\, Room 256 200 University Avenue West Waterloo ON N2L 3G1 Canad
 a
SUMMARY:EcoEvo Journal Club
CLASS:PUBLIC
DESCRIPTION:MEETINGS ARE IN PERSON IN B2-256. \n\nEVERYONE IS WELCOME. ALL
  CAREER STAGES AND ALL DEPARTMENTS.\n\n_Want to join remotely? Let Hanna k
 now at least 2 days in advance and\nwe will get things setup (hhickey@uwat
 erloo.ca). _\n\nSign up to the WEN listserve\n[https://weebly.us20.list-ma
 nage.com/track/click?u=cee56d0152c33840fc467db20&amp;id=3a6d9fdea9&amp;e=b7e33ac5f
 f]\nto receive future Journal Club announcements.\n\nSee our full schedule
 . \n[https://uwaterloo.ca/biology/events/ecoevo-journal-club-0]
DTSTAMP:20260422T085253Z
END:VEVENT
BEGIN:VEVENT
UID:69e88c65baccb
DTSTART;TZID=America/Toronto:20231017T160000
SEQUENCE:0
TRANSP:TRANSPARENT
DTEND;TZID=America/Toronto:20231017T170000
URL:https://uwaterloo.ca/biology/events/ecoevo-journal-club-0
LOCATION:B2\, Room 256 200 University Avenue West Waterloo ON N2L 3G1 Canad
 a
SUMMARY:EcoEvo Journal Club
CLASS:PUBLIC
DESCRIPTION:MEETINGS ARE IN PERSON IN B2-256. \n\nEVERYONE IS WELCOME. ALL
  CAREER STAGES AND ALL DEPARTMENTS.\n\n_Want to join remotely? Let Hanna k
 now at least 2 days in advance and\nwe will get things setup (hhickey@uwat
 erloo.ca). _\n\nSign up to the WEN listserve\n[https://weebly.us20.list-ma
 nage.com/track/click?u=cee56d0152c33840fc467db20&amp;id=3a6d9fdea9&amp;e=b7e33ac5f
 f]\nto receive future Journal Club announcements.\n\nSee our full schedule
 . \n[https://uwaterloo.ca/biology/events/ecoevo-journal-club-0]
DTSTAMP:20260422T085253Z
END:VEVENT
BEGIN:VEVENT
UID:69e88c65bb691
DTSTART;TZID=America/Toronto:20231031T160000
SEQUENCE:0
TRANSP:TRANSPARENT
DTEND;TZID=America/Toronto:20231031T170000
URL:https://uwaterloo.ca/biology/events/ecoevo-journal-club-0
LOCATION:B2\, Room 256 200 University Avenue West Waterloo ON N2L 3G1 Canad
 a
SUMMARY:EcoEvo Journal Club
CLASS:PUBLIC
DESCRIPTION:MEETINGS ARE IN PERSON IN B2-256. \n\nEVERYONE IS WELCOME. ALL
  CAREER STAGES AND ALL DEPARTMENTS.\n\n_Want to join remotely? Let Hanna k
 now at least 2 days in advance and\nwe will get things setup (hhickey@uwat
 erloo.ca). _\n\nSign up to the WEN listserve\n[https://weebly.us20.list-ma
 nage.com/track/click?u=cee56d0152c33840fc467db20&amp;id=3a6d9fdea9&amp;e=b7e33ac5f
 f]\nto receive future Journal Club announcements.\n\nSee our full schedule
 . \n[https://uwaterloo.ca/biology/events/ecoevo-journal-club-0]
DTSTAMP:20260422T085253Z
END:VEVENT
BEGIN:VEVENT
UID:69e88c65bc04f
DTSTART;TZID=America/Toronto:20231114T160000
SEQUENCE:0
TRANSP:TRANSPARENT
DTEND;TZID=America/Toronto:20231114T170000
URL:https://uwaterloo.ca/biology/events/ecoevo-journal-club-0
LOCATION:B2\, Room 256 200 University Avenue West Waterloo ON N2L 3G1 Canad
 a
SUMMARY:EcoEvo Journal Club
CLASS:PUBLIC
DESCRIPTION:MEETINGS ARE IN PERSON IN B2-256. \n\nEVERYONE IS WELCOME. ALL
  CAREER STAGES AND ALL DEPARTMENTS.\n\n_Want to join remotely? Let Hanna k
 now at least 2 days in advance and\nwe will get things setup (hhickey@uwat
 erloo.ca). _\n\nSign up to the WEN listserve\n[https://weebly.us20.list-ma
 nage.com/track/click?u=cee56d0152c33840fc467db20&amp;id=3a6d9fdea9&amp;e=b7e33ac5f
 f]\nto receive future Journal Club announcements.\n\nSee our full schedule
 . \n[https://uwaterloo.ca/biology/events/ecoevo-journal-club-0]
DTSTAMP:20260422T085253Z
END:VEVENT
BEGIN:VEVENT
UID:69e88c65bc998
DTSTART;TZID=America/Toronto:20231212T160000
SEQUENCE:0
TRANSP:TRANSPARENT
DTEND;TZID=America/Toronto:20231212T170000
URL:https://uwaterloo.ca/biology/events/ecoevo-journal-club-0
LOCATION:B2\, Room 256 200 University Avenue West Waterloo ON N2L 3G1 Canad
 a
SUMMARY:EcoEvo Journal Club
CLASS:PUBLIC
DESCRIPTION:MEETINGS ARE IN PERSON IN B2-256. \n\nEVERYONE IS WELCOME. ALL
  CAREER STAGES AND ALL DEPARTMENTS.\n\n_Want to join remotely? Let Hanna k
 now at least 2 days in advance and\nwe will get things setup (hhickey@uwat
 erloo.ca). _\n\nSign up to the WEN listserve\n[https://weebly.us20.list-ma
 nage.com/track/click?u=cee56d0152c33840fc467db20&amp;id=3a6d9fdea9&amp;e=b7e33ac5f
 f]\nto receive future Journal Club announcements.\n\nSee our full schedule
 . \n[https://uwaterloo.ca/biology/events/ecoevo-journal-club-0]
DTSTAMP:20260422T085253Z
END:VEVENT
END:VCALENDAR