BEGIN:VCALENDAR
VERSION:2.0
PRODID:-//Drupal iCal API//EN
X-WR-CALNAME:Events items teaser
X-WR-TIMEZONE:America/Toronto
BEGIN:VTIMEZONE
TZID:America/Toronto
X-LIC-LOCATION:America/Toronto
BEGIN:DAYLIGHT
TZNAME:EDT
TZOFFSETFROM:-0500
TZOFFSETTO:-0400
DTSTART:20260308T070000
END:DAYLIGHT
BEGIN:DAYLIGHT
TZNAME:EDT
TZOFFSETFROM:-0500
TZOFFSETTO:-0400
DTSTART:20230312T070000
END:DAYLIGHT
BEGIN:DAYLIGHT
TZNAME:EDT
TZOFFSETFROM:-0500
TZOFFSETTO:-0400
DTSTART:20220313T070000
END:DAYLIGHT
BEGIN:STANDARD
TZNAME:EST
TZOFFSETFROM:-0400
TZOFFSETTO:-0500
DTSTART:20251102T060000
END:STANDARD
BEGIN:STANDARD
TZNAME:EST
TZOFFSETFROM:-0400
TZOFFSETTO:-0500
DTSTART:20221106T060000
END:STANDARD
BEGIN:STANDARD
TZNAME:EST
TZOFFSETFROM:-0400
TZOFFSETTO:-0500
DTSTART:20211107T060000
END:STANDARD
END:VTIMEZONE
BEGIN:VEVENT
UID:69ebfcdb61515
DTSTART;TZID=America/Toronto:20260503T190000
SEQUENCE:0
TRANSP:TRANSPARENT
DTEND;TZID=America/Toronto:20260503T210000
URL:https://uwaterloo.ca/brubacher-house/events/home-routes-folk-concert-v-
 poulsens-kapel
LOCATION:BRH - Brubacher House Frank Tompa Dr. Waterloo ON N2L 3G1 Canada
SUMMARY:Home Routes folk concert: V. Poulsens Kapel
CLASS:PUBLIC
DESCRIPTION:V. POULSENS KAPEL grew out of a deep immersion in traditional D
 anish\nmusic\, learned firsthand from mentors\, friends\, and local tradit
 ion\nbearers. Their repertoire traces a clear lineage to the music of Ewal
 d\nThomsen and the many musicians who shaped the brothers’ musical\nupbr
 inging\, passing tunes hand to hand and ear to ear. Through\nextended stay
 s in Canada\, they also developed a lasting love for\ntraditional Canadian
  music\, forming close friendships with leading\nmusicians from Quebec and
  Cape Breton. These exchanges allowed the\nmusic to take root\, evolve\, a
 nd continue living in Denmark—exactly\nas traditional music is meant to 
 do.\n\nWebsite [/vpoulsenskapel.dk]\n\nSpotify\n[https://open.spotify.com/
 artist/5SKiPFSTenx44o2qJrmI7E?si=xVV_4TwFTbOPAwW8cSuJ9g]
DTSTAMP:20260424T232931Z
END:VEVENT
BEGIN:VEVENT
UID:69ebfcdb65bf9
DTSTART;TZID=America/Toronto:20260306T190000
SEQUENCE:0
TRANSP:TRANSPARENT
DTEND;TZID=America/Toronto:20260306T210000
URL:https://uwaterloo.ca/brubacher-house/events/home-routes-folk-concert-on
 na-lou-and-keri-latimer
LOCATION:BRH - Brubacher House Frank Tompa Dr. Waterloo ON N2L 3G1 Canada
SUMMARY:Home Routes folk concert: Onna Lou and Keri Latimer
CLASS:PUBLIC
DESCRIPTION:Onna Lou and Keri Latimer bring together two powerful voices in
 \ncontemporary folk and roots music for an intimate Home Routes\nexperienc
 e at Brubacher House. 
DTSTAMP:20260424T232931Z
END:VEVENT
BEGIN:VEVENT
UID:69ebfcdb66a34
DTSTART;TZID=America/Toronto:20230511T190000
SEQUENCE:0
TRANSP:TRANSPARENT
DTEND;TZID=America/Toronto:20230511T203000
URL:https://uwaterloo.ca/brubacher-house/events/brubacher-house-poetry-read
 ing
LOCATION:BRH - Brubacher House 200 University Avenue West Waterloo ON N2L 3
 G1 Canada
SUMMARY:Brubacher House: Poetry Reading
CLASS:PUBLIC
DESCRIPTION:Join us for an evening of poetry with Brubacher House 2022-23\n
 Artists-in-Residence\, Jakob-Michael Stephan and Hannah Gardiner.
DTSTAMP:20260424T232931Z
END:VEVENT
BEGIN:VEVENT
UID:69ebfcdb677dc
DTSTART;TZID=America/Toronto:20220604T153000
SEQUENCE:0
TRANSP:TRANSPARENT
DTEND;TZID=America/Toronto:20220604T180000
URL:https://uwaterloo.ca/brubacher-house/events/june-art-classes-yulia-balo
 banova
LOCATION:BRH - Brubacher House 200 University Avenue West Waterloo ON N2L 3
 G1 Canada
SUMMARY:June Art Classes with Yulia Balobanova
CLASS:PUBLIC
DESCRIPTION:Try your hand at something new! Join Brubacher House 2022\nArti
 st-in-Residence Yulia Balobanova for a fun series of June\nworkshops as we
  capture the beauty of Brubacher House with pastel. No\npainting experienc
 e necessary--Yulia will guide us through the entire\nprocess from start to
  finish.
DTSTAMP:20260424T232931Z
END:VEVENT
BEGIN:VEVENT
UID:69ebfcdb68461
DTSTART;TZID=America/Toronto:20220611T153000
SEQUENCE:0
TRANSP:TRANSPARENT
DTEND;TZID=America/Toronto:20220611T170000
URL:https://uwaterloo.ca/brubacher-house/events/june-art-classes-yulia-balo
 banova
LOCATION:BRH - Brubacher House 200 University Avenue West Waterloo ON N2L 3
 G1 Canada
SUMMARY:June Art Classes with Yulia Balobanova
CLASS:PUBLIC
DESCRIPTION:Try your hand at something new! Join Brubacher House 2022\nArti
 st-in-Residence Yulia Balobanova for a fun series of June\nworkshops as we
  capture the beauty of Brubacher House with pastel. No\npainting experienc
 e necessary--Yulia will guide us through the entire\nprocess from start to
  finish.
DTSTAMP:20260424T232931Z
END:VEVENT
BEGIN:VEVENT
UID:69ebfcdb68f6a
DTSTART;TZID=America/Toronto:20220618T153000
SEQUENCE:0
TRANSP:TRANSPARENT
DTEND;TZID=America/Toronto:20220618T180000
URL:https://uwaterloo.ca/brubacher-house/events/june-art-classes-yulia-balo
 banova
LOCATION:BRH - Brubacher House 200 University Avenue West Waterloo ON N2L 3
 G1 Canada
SUMMARY:June Art Classes with Yulia Balobanova
CLASS:PUBLIC
DESCRIPTION:Try your hand at something new! Join Brubacher House 2022\nArti
 st-in-Residence Yulia Balobanova for a fun series of June\nworkshops as we
  capture the beauty of Brubacher House with pastel. No\npainting experienc
 e necessary--Yulia will guide us through the entire\nprocess from start to
  finish.
DTSTAMP:20260424T232931Z
END:VEVENT
END:VCALENDAR