BEGIN:VCALENDAR
VERSION:2.0
PRODID:-//Drupal iCal API//EN
X-WR-CALNAME:Events items teaser
X-WR-TIMEZONE:America/Toronto
BEGIN:VTIMEZONE
TZID:America/Toronto
X-LIC-LOCATION:America/Toronto
BEGIN:DAYLIGHT
TZNAME:EDT
TZOFFSETFROM:-0500
TZOFFSETTO:-0400
DTSTART:20250309T070000
END:DAYLIGHT
BEGIN:STANDARD
TZNAME:EST
TZOFFSETFROM:-0400
TZOFFSETTO:-0500
DTSTART:20251102T060000
END:STANDARD
END:VTIMEZONE
BEGIN:VEVENT
UID:69db09782f3ba
DTSTART;TZID=America/Toronto:20251105T120000
SEQUENCE:0
TRANSP:TRANSPARENT
DTEND;TZID=America/Toronto:20251105T143000
URL:https://uwaterloo.ca/campus-plan/events/campus-plan-open-house-november
 -5-student-life-centre
LOCATION:SLC - Student Life Centre 200 University Avenue West Waterloo ON N
 2L 3G1 Canada
SUMMARY:Campus Plan Open House: November 5 in Student Life Centre
CLASS:PUBLIC
DESCRIPTION:Join us in the STUDENT LIFE CENTRE (BLACK &amp; GOLD ROOM) to explo
 re the\ndraft Campus Plan\, experience interactive displays\, and speak di
 rectly\nwith the project team from BROOK MCILROY about priorities such as\
 ngreen space\, well-being\, sustainability\, and campus accessibility.\n\n
 If you can’t make the Open House at the SLC\, please note there is\nanot
 her Campus Plan Open House happening the same day in ENGINEERING\n7\, ROOM
 S 2317 AND 2357 FROM 10:00 A.M.–1:00 P.M. EDT.
DTSTAMP:20260412T025448Z
END:VEVENT
END:VCALENDAR