BEGIN:VCALENDAR
VERSION:2.0
PRODID:-//Drupal iCal API//EN
X-WR-CALNAME:Events items teaser
X-WR-TIMEZONE:America/Toronto
BEGIN:VTIMEZONE
TZID:America/Toronto
X-LIC-LOCATION:America/Toronto
BEGIN:DAYLIGHT
TZNAME:EDT
TZOFFSETFROM:-0500
TZOFFSETTO:-0400
DTSTART:20170312T070000
END:DAYLIGHT
BEGIN:STANDARD
TZNAME:EST
TZOFFSETFROM:-0400
TZOFFSETTO:-0500
DTSTART:20171105T060000
END:STANDARD
END:VTIMEZONE
BEGIN:VEVENT
UID:69b4af592f8e4
DTSTART;TZID=America/Toronto:20180109T080000
SEQUENCE:0
TRANSP:TRANSPARENT
DTEND;TZID=America/Toronto:20180112T170000
URL:https://uwaterloo.ca/centre-automotive-research/events/ces-conference-c
 onsumer-electronics-show
LOCATION:Las Vegas Convention Center 3150 Paradise Rd Las Vegas\, 89109 Uni
 ted States
SUMMARY:CES Conference: Consumer Electronics Show
CLASS:PUBLIC
DESCRIPTION:THE GLOBAL STAGE FOR INNOVATION\n\nCES is the world's gathering
  place for all who thrive on the business\nof consumer technologies. It ha
 s served as the proving ground for\ninnovators and breakthrough technologi
 es for 50 years — the global\nstage where next-generation innovations ar
 e introduced to the\nmarketplace. As the largest hands-on event of its kin
 d\, CES features\nall aspects of the industry.
DTSTAMP:20260314T004409Z
END:VEVENT
END:VCALENDAR