BEGIN:VCALENDAR
VERSION:2.0
PRODID:-//Drupal iCal API//EN
X-WR-CALNAME:Events items teaser
X-WR-TIMEZONE:America/Toronto
BEGIN:VTIMEZONE
TZID:America/Toronto
X-LIC-LOCATION:America/Toronto
BEGIN:DAYLIGHT
TZNAME:EDT
TZOFFSETFROM:-0500
TZOFFSETTO:-0400
DTSTART:20120311T070000
END:DAYLIGHT
BEGIN:DAYLIGHT
TZNAME:EDT
TZOFFSETFROM:-0500
TZOFFSETTO:-0400
DTSTART:20130310T070000
END:DAYLIGHT
BEGIN:STANDARD
TZNAME:EST
TZOFFSETFROM:-0400
TZOFFSETTO:-0500
DTSTART:20121104T060000
END:STANDARD
END:VTIMEZONE
BEGIN:VEVENT
UID:69eb98f0392e7
DTSTART;TZID=America/Toronto:20121215T150000
SEQUENCE:0
TRANSP:TRANSPARENT
DTEND;TZID=America/Toronto:20130505T210000
URL:https://uwaterloo.ca/centre-for-german-studies/events/exhibition-althea
 -thauberger-marat-sade-bohnice
LOCATION:The Power Plant Art Gallery Toronto Canada
SUMMARY:Exhibition: Althea Thauberger: Marat-Sade-Bohnice
CLASS:PUBLIC
DESCRIPTION:POSTER: Marat-Sade-Bohnice Exhibition Poster (PDF)\n[/centre-fo
 r-german-studies/sites/ca.centre-for-german-studies/files/uploads/files/th
 auberger_marat-sade-bohnice_powerplant_0.pdf]
DTSTAMP:20260424T162312Z
END:VEVENT
END:VCALENDAR