BEGIN:VCALENDAR
VERSION:2.0
PRODID:-//Drupal iCal API//EN
X-WR-CALNAME:Events items teaser
X-WR-TIMEZONE:America/Toronto
BEGIN:VTIMEZONE
TZID:America/Toronto
X-LIC-LOCATION:America/Toronto
BEGIN:DAYLIGHT
TZNAME:EDT
TZOFFSETFROM:-0500
TZOFFSETTO:-0400
DTSTART:20120311T070000
END:DAYLIGHT
BEGIN:STANDARD
TZNAME:EST
TZOFFSETFROM:-0400
TZOFFSETTO:-0500
DTSTART:20111106T060000
END:STANDARD
END:VTIMEZONE
BEGIN:VEVENT
UID:69eb50f1bef2e
DTSTART;TZID=America/Toronto:20120928T113000
SEQUENCE:0
TRANSP:TRANSPARENT
DTEND;TZID=America/Toronto:20120928T130000
URL:https://uwaterloo.ca/centre-for-german-studies/events/language-attitude
 s-interaction-narrated-language-biographies
LOCATION:ML - Modern Languages 200 University Avenue West Room 245 Waterloo
  ON N2L 3G1 Canada
SUMMARY:Language Attitudes in Interaction in Narrated Language Biographies
CLASS:PUBLIC
DESCRIPTION:POSTER: Language Attitudes in Interaction in Narrated Language\
 nBiographies Poster (PDF)\n[/centre-for-german-studies/sites/ca.centre-for
 -german-studies/files/uploads/files/language_attitudes_interaction.pdf]\n\
 nOn September 28th\, KATHARINA KÖNIG\, visiting researcher from the\nUniv
 ersity of Münster\, Germany\, held an inspiring lunch talk about\nLANGUAG
 E ATTITUDES IN INTERACTION IN NARRATED LANGUAGE BIOGRAPHIES.
DTSTAMP:20260424T111601Z
END:VEVENT
END:VCALENDAR