BEGIN:VCALENDAR
VERSION:2.0
PRODID:-//Drupal iCal API//EN
X-WR-CALNAME:Events items teaser
X-WR-TIMEZONE:America/Toronto
BEGIN:VTIMEZONE
TZID:America/Toronto
X-LIC-LOCATION:America/Toronto
BEGIN:DAYLIGHT
TZNAME:EDT
TZOFFSETFROM:-0500
TZOFFSETTO:-0400
DTSTART:20120311T070000
END:DAYLIGHT
BEGIN:STANDARD
TZNAME:EST
TZOFFSETFROM:-0400
TZOFFSETTO:-0500
DTSTART:20111106T060000
END:STANDARD
END:VTIMEZONE
BEGIN:VEVENT
UID:69eb98eebf625
DTSTART;TZID=America/Toronto:20120921T140000
SEQUENCE:0
TRANSP:TRANSPARENT
DTEND;TZID=America/Toronto:20120921T160000
URL:https://uwaterloo.ca/centre-for-german-studies/events/salvaging-history
 -can-we-learn-anything-really-bad-1970s
LOCATION:EV3 - Environment 3 200 University Avenue West Room 3412 Waterloo 
 ON N2L 3G1 Canada
SUMMARY:Salvaging History: Can We Learn Anything from (Really Bad) 1970s Or
 al\nHistory Interviews?
CLASS:PUBLIC
DESCRIPTION:POSTER: Salvaging History Poster (PDF)\n[/centre-for-german-stu
 dies/sites/ca.centre-for-german-studies/files/uploads/files/freund_salvagi
 ng_history.pdf]\n\nALEXANDER FREUND gave an informative lecture on “SALV
 AGING HISTORY:\nCAN WE LEARN ANYTHING FROM (REALLY BAD) 1970S ORAL HISTORY
 \nINTERVIEWS?” on September 21st2012.\n\nAlexander Freund is the holder
  of the Chair of German-Canadian studies\nand co-director of the Oral Hist
 ory Centre at the University of\nWinnipeg. 
DTSTAMP:20260424T162310Z
END:VEVENT
END:VCALENDAR