BEGIN:VCALENDAR
VERSION:2.0
PRODID:-//Drupal iCal API//EN
X-WR-CALNAME:Events items teaser
X-WR-TIMEZONE:America/Toronto
BEGIN:VTIMEZONE
TZID:America/Toronto
X-LIC-LOCATION:America/Toronto
BEGIN:DAYLIGHT
TZNAME:EDT
TZOFFSETFROM:-0500
TZOFFSETTO:-0400
DTSTART:20110313T070000
END:DAYLIGHT
BEGIN:STANDARD
TZNAME:EST
TZOFFSETFROM:-0400
TZOFFSETTO:-0500
DTSTART:20101107T060000
END:STANDARD
END:VTIMEZONE
BEGIN:VEVENT
UID:69d7421924a2e
DTSTART;TZID=America/Toronto:20110929T000000
SEQUENCE:0
TRANSP:TRANSPARENT
DTEND;TZID=America/Toronto:20110929T000000
URL:https://uwaterloo.ca/centre-for-german-studies/events/anthes-papers
LOCATION:HH - J.G. Hagey Hall of the Humanities 200 University Avenue West 
 Room 334 Waterloo ON N2L 3G1 Canada
SUMMARY:The Anthes Papers
CLASS:PUBLIC
DESCRIPTION:POSTER: The Anthes Papers Poster (PDF)\n[/centre-for-german-stu
 dies/sites/ca.centre-for-german-studies/files/uploads/files/anthes.pdf]\n\
 nOn September 28th 2011\, Susan Thorne and Geoffrey Hayes gave a\npresenta
 tion about the ANTHES PAPERS\, a set of letters by the\nGerman-Canadian pa
 stor Anthes\, which have been preserved in the German\narchive of the Univ
 ersity of Waterloo.
DTSTAMP:20260409T060721Z
END:VEVENT
END:VCALENDAR