BEGIN:VCALENDAR
VERSION:2.0
PRODID:-//Drupal iCal API//EN
X-WR-CALNAME:Events items teaser
X-WR-TIMEZONE:America/Toronto
BEGIN:VTIMEZONE
TZID:America/Toronto
X-LIC-LOCATION:America/Toronto
BEGIN:DAYLIGHT
TZNAME:EDT
TZOFFSETFROM:-0500
TZOFFSETTO:-0400
DTSTART:20100314T070000
END:DAYLIGHT
BEGIN:STANDARD
TZNAME:EST
TZOFFSETFROM:-0400
TZOFFSETTO:-0500
DTSTART:20101107T060000
END:STANDARD
END:VTIMEZONE
BEGIN:VEVENT
UID:69eb50e3407af
DTSTART;TZID=America/Toronto:20101121T163000
SEQUENCE:0
TRANSP:TRANSPARENT
DTEND;TZID=America/Toronto:20101121T163000
URL:https://uwaterloo.ca/centre-for-german-studies/events/jean-snook-readin
 g-her-recent-translations
LOCATION:EV1 - Environment 1 200 University Ave West Room 250 Waterloo ON N
 2L 3G1 Canada
SUMMARY:Jean Snook: Reading from her recent translations
CLASS:PUBLIC
DESCRIPTION:POSTER: Jean Snook Reading Poster (PDF)\n[/centre-for-german-st
 udies/sites/ca.centre-for-german-studies/files/uploads/files/snook_reading
 .pdf]
DTSTAMP:20260424T111547Z
END:VEVENT
END:VCALENDAR