BEGIN:VCALENDAR
VERSION:2.0
PRODID:-//Drupal iCal API//EN
X-WR-CALNAME:Events items teaser
X-WR-TIMEZONE:America/Toronto
BEGIN:VTIMEZONE
TZID:America/Toronto
X-LIC-LOCATION:America/Toronto
BEGIN:DAYLIGHT
TZNAME:EDT
TZOFFSETFROM:-0500
TZOFFSETTO:-0400
DTSTART:20090308T070000
END:DAYLIGHT
BEGIN:STANDARD
TZNAME:EST
TZOFFSETFROM:-0400
TZOFFSETTO:-0500
DTSTART:20091101T060000
END:STANDARD
END:VTIMEZONE
BEGIN:VEVENT
UID:69ed81aeab69a
DTSTART;TZID=America/Toronto:20100201T000000
SEQUENCE:0
TRANSP:TRANSPARENT
DTEND;TZID=America/Toronto:20100201T000000
URL:https://uwaterloo.ca/centre-for-german-studies/events/2010-diefenbaker-
 lecture-series
SUMMARY:2010 Diefenbaker Lecture Series
CLASS:PUBLIC
DESCRIPTION:POSTER: 2010 Diefenbaker Lecture Series Poster (PDF)\n[/centre-
 for-german-studies/sites/ca.centre-for-german-studies/files/uploads/files/
 dief_2010_lec.pdf]\n\nIn February and March 2010\, the Department of Germa
 nic and Slavic\nStudies and the Waterloo Centre for German Studies hosted 
 the 2010\nDiefenbaker Lecture Series.
DTSTAMP:20260426T030830Z
END:VEVENT
END:VCALENDAR