BEGIN:VCALENDAR
VERSION:2.0
PRODID:-//Drupal iCal API//EN
X-WR-CALNAME:Events items teaser
X-WR-TIMEZONE:America/Toronto
BEGIN:VTIMEZONE
TZID:America/Toronto
X-LIC-LOCATION:America/Toronto
BEGIN:DAYLIGHT
TZNAME:EDT
TZOFFSETFROM:-0500
TZOFFSETTO:-0400
DTSTART:20090308T070000
END:DAYLIGHT
BEGIN:STANDARD
TZNAME:EST
TZOFFSETFROM:-0400
TZOFFSETTO:-0500
DTSTART:20091101T060000
END:STANDARD
END:VTIMEZONE
BEGIN:VEVENT
UID:69ebe9824c510
DTSTART;TZID=America/Toronto:20091109T000000
SEQUENCE:0
TRANSP:TRANSPARENT
DTEND;TZID=America/Toronto:20091109T000000
URL:https://uwaterloo.ca/centre-for-german-studies/events/fall-berlin-wall
LOCATION:Kitchener Public Library Canada
SUMMARY:Fall of the Berlin Wall
CLASS:PUBLIC
DESCRIPTION:The Fall of the Berlin Wall: Why It Happened\, What It Changed\
 n\nJames M. Skidmore (University of Waterloo)
DTSTAMP:20260424T220658Z
END:VEVENT
END:VCALENDAR