BEGIN:VCALENDAR
VERSION:2.0
PRODID:-//Drupal iCal API//EN
X-WR-CALNAME:Events items teaser
X-WR-TIMEZONE:America/Toronto
BEGIN:VTIMEZONE
TZID:America/Toronto
X-LIC-LOCATION:America/Toronto
BEGIN:DAYLIGHT
TZNAME:EDT
TZOFFSETFROM:-0500
TZOFFSETTO:-0400
DTSTART:20090308T070000
END:DAYLIGHT
BEGIN:STANDARD
TZNAME:EST
TZOFFSETFROM:-0400
TZOFFSETTO:-0500
DTSTART:20081102T060000
END:STANDARD
END:VTIMEZONE
BEGIN:VEVENT
UID:69eb3a9527e6b
DTSTART;TZID=America/Toronto:20090929T000000
SEQUENCE:0
TRANSP:TRANSPARENT
DTEND;TZID=America/Toronto:20090929T000000
URL:https://uwaterloo.ca/centre-for-german-studies/events/german-studies-fo
 rum-1949-1989-2009
LOCATION:HH - J.G. Hagey Hall of the Humanities 200 University Avenue West 
 Room 334 Waterloo ON N2L 3G1 Canada
SUMMARY:German Studies Forum - 1949-1989-2009
CLASS:PUBLIC
DESCRIPTION:German Studies Forum\n\n1949-1989-2009\n\nThe Path to German an
 d European Unity\n\nOrganized by the Waterloo Centre for German Studies
DTSTAMP:20260424T094037Z
END:VEVENT
END:VCALENDAR