BEGIN:VCALENDAR
VERSION:2.0
PRODID:-//Drupal iCal API//EN
X-WR-CALNAME:Events items teaser
X-WR-TIMEZONE:America/Toronto
BEGIN:VTIMEZONE
TZID:America/Toronto
X-LIC-LOCATION:America/Toronto
BEGIN:DAYLIGHT
TZNAME:EDT
TZOFFSETFROM:-0500
TZOFFSETTO:-0400
DTSTART:20070311T070000
END:DAYLIGHT
BEGIN:STANDARD
TZNAME:EST
TZOFFSETFROM:-0400
TZOFFSETTO:-0500
DTSTART:20071104T060000
END:STANDARD
END:VTIMEZONE
BEGIN:VEVENT
UID:69ebbe34599f3
DTSTART;TZID=America/Toronto:20071203T000000
SEQUENCE:0
TRANSP:TRANSPARENT
DTEND;TZID=America/Toronto:20071203T000000
URL:https://uwaterloo.ca/centre-for-german-studies/events/weihnachtsfeier
SUMMARY:Weihnachtsfeier
CLASS:PUBLIC
DESCRIPTION:In the spirit of Christmas giving we will be accepting donation
 s on\nbehalf of Kidsability\, a charitable organization helping thousands 
 of\nchildren and young adults who have developmental\, physical and\ncommu
 nication disabilities. All funds raised will go directly to\nprograms help
 ing these children discover their potential.
DTSTAMP:20260424T190212Z
END:VEVENT
END:VCALENDAR