BEGIN:VCALENDAR
VERSION:2.0
PRODID:-//Drupal iCal API//EN
X-WR-CALNAME:Events items teaser
X-WR-TIMEZONE:America/Toronto
BEGIN:VTIMEZONE
TZID:America/Toronto
X-LIC-LOCATION:America/Toronto
BEGIN:DAYLIGHT
TZNAME:EDT
TZOFFSETFROM:-0500
TZOFFSETTO:-0400
DTSTART:20070311T070000
END:DAYLIGHT
BEGIN:STANDARD
TZNAME:EST
TZOFFSETFROM:-0400
TZOFFSETTO:-0500
DTSTART:20071104T060000
END:STANDARD
END:VTIMEZONE
BEGIN:VEVENT
UID:69eba9d834a3d
DTSTART;TZID=America/Toronto:20071120T000000
SEQUENCE:0
TRANSP:TRANSPARENT
DTEND;TZID=America/Toronto:20071120T000000
URL:https://uwaterloo.ca/centre-for-german-studies/events/book-launch-j-kra
 use
SUMMARY:Book Launch - J. Krause
CLASS:PUBLIC
DESCRIPTION:Book launch with documentary film (German with English subtitle
 s)\, and\nreading (in English)
DTSTAMP:20260424T173520Z
END:VEVENT
END:VCALENDAR