BEGIN:VCALENDAR
VERSION:2.0
PRODID:-//Drupal iCal API//EN
X-WR-CALNAME:Events items teaser
X-WR-TIMEZONE:America/Toronto
BEGIN:VTIMEZONE
TZID:America/Toronto
X-LIC-LOCATION:America/Toronto
BEGIN:DAYLIGHT
TZNAME:EDT
TZOFFSETFROM:-0500
TZOFFSETTO:-0400
DTSTART:20070311T070000
END:DAYLIGHT
BEGIN:STANDARD
TZNAME:EST
TZOFFSETFROM:-0400
TZOFFSETTO:-0500
DTSTART:20061029T060000
END:STANDARD
END:VTIMEZONE
BEGIN:VEVENT
UID:69eb50f2be737
DTSTART;TZID=America/Toronto:20070920T000000
SEQUENCE:0
TRANSP:TRANSPARENT
DTEND;TZID=America/Toronto:20070920T000000
URL:https://uwaterloo.ca/centre-for-german-studies/events/ambassador-german
 y-waterloo
SUMMARY:Ambassador of Germany in Waterloo
CLASS:PUBLIC
DESCRIPTION:Ambassador's Conference\n\nCanada\, Germany\, Europe: Co-operat
 ion and Partnership
DTSTAMP:20260424T111602Z
END:VEVENT
END:VCALENDAR