BEGIN:VCALENDAR
VERSION:2.0
PRODID:-//Drupal iCal API//EN
X-WR-CALNAME:Events items teaser
X-WR-TIMEZONE:America/Toronto
BEGIN:VTIMEZONE
TZID:America/Toronto
X-LIC-LOCATION:America/Toronto
BEGIN:DAYLIGHT
TZNAME:EDT
TZOFFSETFROM:-0500
TZOFFSETTO:-0400
DTSTART:20060402T070000
END:DAYLIGHT
BEGIN:STANDARD
TZNAME:EST
TZOFFSETFROM:-0400
TZOFFSETTO:-0500
DTSTART:20061029T060000
END:STANDARD
END:VTIMEZONE
BEGIN:VEVENT
UID:69ec355d5bce3
DTSTART;TZID=America/Toronto:20061204T000000
SEQUENCE:0
TRANSP:TRANSPARENT
DTEND;TZID=America/Toronto:20061204T000000
URL:https://uwaterloo.ca/centre-for-german-studies/events/waterloo-colloqui
 um-language-learning-and-teaching-0
SUMMARY:Waterloo Colloquium on Language Learning and Teaching
CLASS:PUBLIC
DESCRIPTION:[Colloquium attendees ] \n [Colloquium speaker] \n [Colloquium 
 attendees]
DTSTAMP:20260425T033037Z
END:VEVENT
END:VCALENDAR