BEGIN:VCALENDAR
VERSION:2.0
PRODID:-//Drupal iCal API//EN
X-WR-CALNAME:Events items teaser
X-WR-TIMEZONE:America/Toronto
BEGIN:VTIMEZONE
TZID:America/Toronto
X-LIC-LOCATION:America/Toronto
BEGIN:DAYLIGHT
TZNAME:EDT
TZOFFSETFROM:-0500
TZOFFSETTO:-0400
DTSTART:20140309T070000
END:DAYLIGHT
BEGIN:STANDARD
TZNAME:EST
TZOFFSETFROM:-0400
TZOFFSETTO:-0500
DTSTART:20141102T060000
END:STANDARD
END:VTIMEZONE
BEGIN:VEVENT
UID:69ecbca68f6c5
DTSTART;TZID=America/Toronto:20141125T193000
SEQUENCE:0
TRANSP:TRANSPARENT
DTEND;TZID=America/Toronto:20141125T193000
URL:https://uwaterloo.ca/centre-for-german-studies/events/coffee-my-beloved
 -0
LOCATION:HH - J.G. Hagey Hall of the Humanities 200 University Avenue West 
 Room 180 Waterloo ON N2L 3G1 Canada
SUMMARY:Coffee\, My Beloved!
CLASS:PUBLIC
DESCRIPTION:TWO PLAYS\, ONE DRINK:\n\nAZMERAS ENTDECKUNG tells the comedic 
 tale about the legendary\nEthiopian goatherd Kaldi\, his “entirely ficti
 onal” goat\, Azmera\,\nand how they discovered the miraculous powers of
  coffee 850 years ago.
DTSTAMP:20260425T130750Z
END:VEVENT
END:VCALENDAR