BEGIN:VCALENDAR
VERSION:2.0
PRODID:-//Drupal iCal API//EN
X-WR-CALNAME:Events items teaser
X-WR-TIMEZONE:America/Toronto
BEGIN:VTIMEZONE
TZID:America/Toronto
X-LIC-LOCATION:America/Toronto
BEGIN:DAYLIGHT
TZNAME:EDT
TZOFFSETFROM:-0500
TZOFFSETTO:-0400
DTSTART:20150308T070000
END:DAYLIGHT
BEGIN:STANDARD
TZNAME:EST
TZOFFSETFROM:-0400
TZOFFSETTO:-0500
DTSTART:20141102T060000
END:STANDARD
END:VTIMEZONE
BEGIN:VEVENT
UID:69ec35564bb01
DTSTART;TZID=America/Toronto:20150407T163000
SEQUENCE:0
TRANSP:TRANSPARENT
DTEND;TZID=America/Toronto:20150407T163000
URL:https://uwaterloo.ca/centre-for-german-studies/events/maria-speth-film-
 retrospective
LOCATION:ECH - East Campus Hall 200 University Ave West Room 1220 Waterloo 
 ON N2L 3G1 Canada
SUMMARY:Maria Speth Film Retrospective
CLASS:PUBLIC
DESCRIPTION:(EN) GENDERING PRECARITY\n\nMaria Speth is an award-winning dir
 ector who is often associated with\nthe \"Berlin school\" of German filmma
 king.  As part of her visit to\nthe University of Waterloo\, sponsored by
  the Waterloo Centre for\nGerman Studies\, three of her most important fil
 ms will be shown in\nApril.
DTSTAMP:20260425T033030Z
END:VEVENT
BEGIN:VEVENT
UID:69ec35564e913
DTSTART;TZID=America/Toronto:20150414T163000
SEQUENCE:0
TRANSP:TRANSPARENT
DTEND;TZID=America/Toronto:20150414T163000
URL:https://uwaterloo.ca/centre-for-german-studies/events/maria-speth-film-
 retrospective
LOCATION:ECH - East Campus Hall 200 University Ave West Room 1220 Waterloo 
 ON N2L 3G1 Canada
SUMMARY:Maria Speth Film Retrospective
CLASS:PUBLIC
DESCRIPTION:(EN) GENDERING PRECARITY\n\nMaria Speth is an award-winning dir
 ector who is often associated with\nthe \"Berlin school\" of German filmma
 king.  As part of her visit to\nthe University of Waterloo\, sponsored by
  the Waterloo Centre for\nGerman Studies\, three of her most important fil
 ms will be shown in\nApril.
DTSTAMP:20260425T033030Z
END:VEVENT
BEGIN:VEVENT
UID:69ec35564f0b6
DTSTART;TZID=America/Toronto:20150421T163000
SEQUENCE:0
TRANSP:TRANSPARENT
DTEND;TZID=America/Toronto:20150421T163000
URL:https://uwaterloo.ca/centre-for-german-studies/events/maria-speth-film-
 retrospective
LOCATION:ECH - East Campus Hall 200 University Ave West Room 1220 Waterloo 
 ON N2L 3G1 Canada
SUMMARY:Maria Speth Film Retrospective
CLASS:PUBLIC
DESCRIPTION:(EN) GENDERING PRECARITY\n\nMaria Speth is an award-winning dir
 ector who is often associated with\nthe \"Berlin school\" of German filmma
 king.  As part of her visit to\nthe University of Waterloo\, sponsored by
  the Waterloo Centre for\nGerman Studies\, three of her most important fil
 ms will be shown in\nApril.
DTSTAMP:20260425T033030Z
END:VEVENT
END:VCALENDAR