BEGIN:VCALENDAR
VERSION:2.0
PRODID:-//Drupal iCal API//EN
X-WR-CALNAME:Events items teaser
X-WR-TIMEZONE:America/Toronto
BEGIN:VTIMEZONE
TZID:America/Toronto
X-LIC-LOCATION:America/Toronto
BEGIN:DAYLIGHT
TZNAME:EDT
TZOFFSETFROM:-0500
TZOFFSETTO:-0400
DTSTART:20150308T070000
END:DAYLIGHT
BEGIN:STANDARD
TZNAME:EST
TZOFFSETFROM:-0400
TZOFFSETTO:-0500
DTSTART:20141102T060000
END:STANDARD
END:VTIMEZONE
BEGIN:VEVENT
UID:69eb50fcca1c9
DTSTART;TZID=America/Toronto:20150408T130000
SEQUENCE:0
TRANSP:TRANSPARENT
DTEND;TZID=America/Toronto:20150408T180000
URL:https://uwaterloo.ca/centre-for-german-studies/events/waterloo-colloqui
 um-language-teaching-and-learning
LOCATION:EV3 - Environment 3 200 University Avenue West Room 3412 Waterloo 
 ON N2L 3G1 Canada
SUMMARY:Waterloo Colloquium on Language Teaching and Learning
CLASS:PUBLIC
DESCRIPTION:The Waterloo Colloquium on Language Teaching and Learning is th
 e final\npart of the Certificate in University Language Teaching (CULT)\nw
 orkshops held this term. All are welcome to attend. Please download\nthe 
 schedule\n[/centre-for-german-studies/sites/ca.centre-for-german-studies/f
 iles/uploads/files/cult.colloquium.2015.v2_0.pdf] here.
DTSTAMP:20260424T111612Z
END:VEVENT
END:VCALENDAR