BEGIN:VCALENDAR
VERSION:2.0
PRODID:-//Drupal iCal API//EN
X-WR-CALNAME:Events items teaser
X-WR-TIMEZONE:America/Toronto
BEGIN:VTIMEZONE
TZID:America/Toronto
X-LIC-LOCATION:America/Toronto
BEGIN:DAYLIGHT
TZNAME:EDT
TZOFFSETFROM:-0500
TZOFFSETTO:-0400
DTSTART:20150308T070000
END:DAYLIGHT
BEGIN:STANDARD
TZNAME:EST
TZOFFSETFROM:-0400
TZOFFSETTO:-0500
DTSTART:20141102T060000
END:STANDARD
END:VTIMEZONE
BEGIN:VEVENT
UID:69ec5f0854ace
DTSTART;TZID=America/Toronto:20150529T153000
SEQUENCE:0
TRANSP:TRANSPARENT
DTEND;TZID=America/Toronto:20150529T153000
URL:https://uwaterloo.ca/centre-for-german-studies/events/lichtgrenze-berli
 n-wall-border-light-talk-creator-marc
LOCATION:HH - J.G. Hagey Hall of the Humanities 200 University Avenue West 
 Room 2107 Waterloo ON N2L 3G1 Canada
SUMMARY:Lichtgrenze (The Berlin Wall as a Border of Light): A Talk by Creat
 or\nMarc Bauder
CLASS:PUBLIC
DESCRIPTION:Marc Bauder will talk about how he and his brother\, Christo
 pher\,\nconceived and executed a public art installation to commemorate th
 e\n25th anniversary of the fall of the
DTSTAMP:20260425T062824Z
END:VEVENT
END:VCALENDAR