BEGIN:VCALENDAR
VERSION:2.0
PRODID:-//Drupal iCal API//EN
X-WR-CALNAME:Events items teaser
X-WR-TIMEZONE:America/Toronto
BEGIN:VTIMEZONE
TZID:America/Toronto
X-LIC-LOCATION:America/Toronto
BEGIN:DAYLIGHT
TZNAME:EDT
TZOFFSETFROM:-0500
TZOFFSETTO:-0400
DTSTART:20150308T070000
END:DAYLIGHT
BEGIN:STANDARD
TZNAME:EST
TZOFFSETFROM:-0400
TZOFFSETTO:-0500
DTSTART:20141102T060000
END:STANDARD
END:VTIMEZONE
BEGIN:VEVENT
UID:69eba9d59fade
DTSTART;TZID=America/Toronto:20150529T100000
SEQUENCE:0
TRANSP:TRANSPARENT
DTEND;TZID=America/Toronto:20150529T163000
URL:https://uwaterloo.ca/centre-for-german-studies/events/visual-cultural-a
 nd-literary-codes-department-germanic-and
LOCATION:HH - J.G. Hagey Hall of the Humanities 200 University Avenue West 
 Room 2107 Waterloo ON N2L 3G1 Canada
SUMMARY:Visual\, Cultural and Literary Codes: Department of Germanic and Sl
 avic\nStudies' Annual Conference
CLASS:PUBLIC
DESCRIPTION:This is the annual conference of the Department of Germanic and
  Slavic\nStudies. Keynote Speakers are Prof. Dr. Beate Henn-Memmesheimer f
 rom\nUniversität Mannheim and German filmmaker and artist Marc Bauder\n[/
 centre-for-german-studies/node/260]. You can read more about it over\nat t
 heir website\n[https://uwaterloo.ca/germanic-slavic-studies/events/gss-con
 ference-2015].
DTSTAMP:20260424T173517Z
END:VEVENT
END:VCALENDAR