BEGIN:VCALENDAR
VERSION:2.0
PRODID:-//Drupal iCal API//EN
X-WR-CALNAME:Events items teaser
X-WR-TIMEZONE:America/Toronto
BEGIN:VTIMEZONE
TZID:America/Toronto
X-LIC-LOCATION:America/Toronto
BEGIN:DAYLIGHT
TZNAME:EDT
TZOFFSETFROM:-0500
TZOFFSETTO:-0400
DTSTART:20150308T070000
END:DAYLIGHT
BEGIN:STANDARD
TZNAME:EST
TZOFFSETFROM:-0400
TZOFFSETTO:-0500
DTSTART:20151101T060000
END:STANDARD
END:VTIMEZONE
BEGIN:VEVENT
UID:69ebd506be7fa
DTSTART;TZID=America/Toronto:20151208T160000
SEQUENCE:0
TRANSP:TRANSPARENT
DTEND;TZID=America/Toronto:20151208T160000
URL:https://uwaterloo.ca/centre-for-german-studies/events/digital-games-lan
 guage-learning-state-art-research-and
LOCATION:DMS - Stratford Campus 125 St. Patrick Street Room 1004 Stratford 
 ON N5A 0C1 Canada
SUMMARY:Digital Games for Language Learning: State of the Art\, Research\, 
 and\nPractice
CLASS:PUBLIC
DESCRIPTION:As digital gaming has increased in popularity and become a glob
 al\npractice\, computer-assisted language learning (CALL) researchers and\
 nsecond and foreign language (L2) educators have begun reconsidering\ngame
 s as potential L2 teaching and learning (L2TL) resources.
DTSTAMP:20260424T203934Z
END:VEVENT
END:VCALENDAR