BEGIN:VCALENDAR
VERSION:2.0
PRODID:-//Drupal iCal API//EN
X-WR-CALNAME:Events items teaser
X-WR-TIMEZONE:America/Toronto
BEGIN:VTIMEZONE
TZID:America/Toronto
X-LIC-LOCATION:America/Toronto
BEGIN:DAYLIGHT
TZNAME:EDT
TZOFFSETFROM:-0500
TZOFFSETTO:-0400
DTSTART:20150308T070000
END:DAYLIGHT
BEGIN:STANDARD
TZNAME:EST
TZOFFSETFROM:-0400
TZOFFSETTO:-0500
DTSTART:20151101T060000
END:STANDARD
END:VTIMEZONE
BEGIN:VEVENT
UID:69d743dc97da0
DTSTART;TZID=America/Toronto:20151214T100000
SEQUENCE:0
TRANSP:TRANSPARENT
DTEND;TZID=America/Toronto:20151214T100000
URL:https://uwaterloo.ca/centre-for-german-studies/events/german-studies-fo
 rum-0
LOCATION:University of Toronto 1 Devonshire Place Room 208N\, Munk Centre f
 or Global Affairs Toronto ON Canada
SUMMARY:German Studies Forum
CLASS:PUBLIC
DESCRIPTION:The German Studies Forum aims to
DTSTAMP:20260409T061452Z
END:VEVENT
END:VCALENDAR