BEGIN:VCALENDAR
VERSION:2.0
PRODID:-//Drupal iCal API//EN
X-WR-CALNAME:Events items teaser
X-WR-TIMEZONE:America/Toronto
BEGIN:VTIMEZONE
TZID:America/Toronto
X-LIC-LOCATION:America/Toronto
BEGIN:DAYLIGHT
TZNAME:EDT
TZOFFSETFROM:-0500
TZOFFSETTO:-0400
DTSTART:20160313T070000
END:DAYLIGHT
BEGIN:STANDARD
TZNAME:EST
TZOFFSETFROM:-0400
TZOFFSETTO:-0500
DTSTART:20151101T060000
END:STANDARD
END:VTIMEZONE
BEGIN:VEVENT
UID:69ebbe34ce409
DTSTART;TZID=America/Toronto:20160415T140000
SEQUENCE:0
TRANSP:TRANSPARENT
DTEND;TZID=America/Toronto:20160415T140000
URL:https://uwaterloo.ca/centre-for-german-studies/events/mapping-education
 al-trajectories-what-effect-does
LOCATION:EC3 - East Campus 3 200 University Ave West Lounge - just ask the 
 receptionist for directions Waterloo ON N2L 3G1 Canada
SUMMARY:Mapping educational trajectories: What effect does transitioning\nb
 etween online and on-campus courses have on learning?
CLASS:PUBLIC
DESCRIPTION:We are seeing a push towards offering more courses online becau
 se they\ncan provide students with new forms of social and learning\ninte
 raction\, widen their access to education\, and offer an\nindi­vidualize
 d learning experience in large classes.
DTSTAMP:20260424T190212Z
END:VEVENT
END:VCALENDAR