BEGIN:VCALENDAR
VERSION:2.0
PRODID:-//Drupal iCal API//EN
X-WR-CALNAME:Events items teaser
X-WR-TIMEZONE:America/Toronto
BEGIN:VTIMEZONE
TZID:America/Toronto
X-LIC-LOCATION:America/Toronto
BEGIN:DAYLIGHT
TZNAME:EDT
TZOFFSETFROM:-0500
TZOFFSETTO:-0400
DTSTART:20170312T070000
END:DAYLIGHT
BEGIN:STANDARD
TZNAME:EST
TZOFFSETFROM:-0400
TZOFFSETTO:-0500
DTSTART:20161106T060000
END:STANDARD
END:VTIMEZONE
BEGIN:VEVENT
UID:69ed36b405bfe
DTSTART;TZID=America/Toronto:20170404T190000
SEQUENCE:0
TRANSP:TRANSPARENT
DTEND;TZID=America/Toronto:20170404T190000
URL:https://uwaterloo.ca/centre-for-german-studies/events/luther-year-2017-
 did-luther-invent-high-german
LOCATION:Kitchener Public Library 85 Queen St. N. Kitchener ON Canada
SUMMARY:Luther Year 2017: Did Luther Invent High German?
CLASS:PUBLIC
DESCRIPTION:In 1517\, Martin Luther published the Ninety-Five Theses\, and 
 2017\,\n\"The Luther Year\,\" celebrates the 500th anniversary of this beg
 inning\nof the Reformation. Luther’s German translation of the Bible has
 \nremained influential to this day\; his hymns are still sung\; and many\n
 still use his proverbs. But does all this make him the inventor of\nHigh G
 erman?
DTSTAMP:20260425T214836Z
END:VEVENT
END:VCALENDAR