BEGIN:VCALENDAR
VERSION:2.0
PRODID:-//Drupal iCal API//EN
X-WR-CALNAME:Events items teaser
X-WR-TIMEZONE:America/Toronto
BEGIN:VTIMEZONE
TZID:America/Toronto
X-LIC-LOCATION:America/Toronto
BEGIN:DAYLIGHT
TZNAME:EDT
TZOFFSETFROM:-0500
TZOFFSETTO:-0400
DTSTART:20170312T070000
END:DAYLIGHT
BEGIN:STANDARD
TZNAME:EST
TZOFFSETFROM:-0400
TZOFFSETTO:-0500
DTSTART:20161106T060000
END:STANDARD
END:VTIMEZONE
BEGIN:VEVENT
UID:69ec2eb25ff56
DTSTART;TZID=America/Toronto:20170505T160000
SEQUENCE:0
TRANSP:TRANSPARENT
DTEND;TZID=America/Toronto:20170505T160000
URL:https://uwaterloo.ca/centre-for-german-studies/events/data-driven-learn
 ing-can-and-should-language-learners-become
LOCATION:ML - Modern Languages 200 University Avenue West Room 245 Waterloo
  ON N2L 3G1 Canada
SUMMARY:Data-Driven Learning: Can and Should Language Learners Become Corpu
 s\nLinguists?
CLASS:PUBLIC
DESCRIPTION:ALERT: DUE TO FLIGHT CANCELLATION\, THIS TALK HAS BEEN CANCELLE
 D. IF\nYOU WERE HOPING TO COME\, YOU CAN READ UP ON NINA VYATKINA'S RESEAR
 CH\nONLINE [http://kansas.academia.edu/NinaVyatkina]. WE KNOW\; IT'S NOT\n
 THE SAME THING.
DTSTAMP:20260425T030210Z
END:VEVENT
END:VCALENDAR