BEGIN:VCALENDAR
VERSION:2.0
PRODID:-//Drupal iCal API//EN
X-WR-CALNAME:Events items teaser
X-WR-TIMEZONE:America/Toronto
BEGIN:VTIMEZONE
TZID:America/Toronto
X-LIC-LOCATION:America/Toronto
BEGIN:DAYLIGHT
TZNAME:EDT
TZOFFSETFROM:-0500
TZOFFSETTO:-0400
DTSTART:20170312T070000
END:DAYLIGHT
BEGIN:STANDARD
TZNAME:EST
TZOFFSETFROM:-0400
TZOFFSETTO:-0500
DTSTART:20161106T060000
END:STANDARD
END:VTIMEZONE
BEGIN:VEVENT
UID:69eb50e745304
DTSTART;TZID=America/Toronto:20170331T093000
SEQUENCE:0
TRANSP:TRANSPARENT
DTEND;TZID=America/Toronto:20170331T093000
URL:https://uwaterloo.ca/centre-for-german-studies/events/narrated-inscript
 ions-medieval-literature
LOCATION:STJ - St. Jerome's University 290 Westmount Road North Room 3020\,
  \"The Boardroom\" Waterloo ON N2L 3G3 Canada
SUMMARY:Narrated Inscriptions in Medieval Literature
CLASS:PUBLIC
DESCRIPTION:This talk grows out of the University of Heidelberg Collaborati
 ve\nResearch Centre 933 (CRC 933)\, in which faculty-led research groups\n
 from different disciplines examine script-bearing artefacts such as\npilla
 rs\, steles\, portals\, tombstones\, potsherds\, amulets\, scrolls\,\npapy
 ri\, and parchment codices in order to examine the spec
DTSTAMP:20260424T111551Z
END:VEVENT
END:VCALENDAR