BEGIN:VCALENDAR
VERSION:2.0
PRODID:-//Drupal iCal API//EN
X-WR-CALNAME:Events items teaser
X-WR-TIMEZONE:America/Toronto
BEGIN:VTIMEZONE
TZID:America/Toronto
X-LIC-LOCATION:America/Toronto
BEGIN:DAYLIGHT
TZNAME:EDT
TZOFFSETFROM:-0500
TZOFFSETTO:-0400
DTSTART:20170312T070000
END:DAYLIGHT
BEGIN:STANDARD
TZNAME:EST
TZOFFSETFROM:-0400
TZOFFSETTO:-0500
DTSTART:20161106T060000
END:STANDARD
END:VTIMEZONE
BEGIN:VEVENT
UID:69ec2eb75e1ce
DTSTART;TZID=America/Toronto:20170420T130000
SEQUENCE:0
TRANSP:TRANSPARENT
DTEND;TZID=America/Toronto:20170420T130000
URL:https://uwaterloo.ca/centre-for-german-studies/events/deutsch-im-koloni
 alen-kontext-1885-1914
LOCATION:ML - Modern Languages 200 University Avenue West Room 245 Waterloo
  ON N2L 3G1 Canada
SUMMARY:Deutsch im kolonialen Kontext (1885-1914)
CLASS:PUBLIC
DESCRIPTION:Von ca. 1885 bis 1914 standen Gebiete in Afrika und dem pazifis
 chen\nRaum unter deutscher Kolonialherrschaft. Der Vortrag gibt einen\nÜb
 erblick über die deutsche koloniale Sprachenpolitik und die\nVerbreitung 
 und Rolle der deutschen Sprache im pazifischen Raum\, u.a.\nin Schule und 
 Verwaltung. Aus linguistischer Perspektive werden\nunterschiedliche Auswir
 kungen des daraus resultierenden Sprachkontakts\ndargestellt\, wie z.B. le
 xikalische Sprachkontaktphänomene\n(Lehnwörter) und die Entstehung einer
  deutschbasierten Pidgin- und\nKreolsprache.
DTSTAMP:20260425T030215Z
END:VEVENT
END:VCALENDAR