BEGIN:VCALENDAR
VERSION:2.0
PRODID:-//Drupal iCal API//EN
X-WR-CALNAME:Events items teaser
X-WR-TIMEZONE:America/Toronto
BEGIN:VTIMEZONE
TZID:America/Toronto
X-LIC-LOCATION:America/Toronto
BEGIN:DAYLIGHT
TZNAME:EDT
TZOFFSETFROM:-0500
TZOFFSETTO:-0400
DTSTART:20170312T070000
END:DAYLIGHT
BEGIN:STANDARD
TZNAME:EST
TZOFFSETFROM:-0400
TZOFFSETTO:-0500
DTSTART:20161106T060000
END:STANDARD
END:VTIMEZONE
BEGIN:VEVENT
UID:69eba7770c610
DTSTART;TZID=Europe/Berlin:20170515T140000
SEQUENCE:0
TRANSP:TRANSPARENT
DTEND;TZID=Europe/Berlin:20170517T150000
URL:https://uwaterloo.ca/centre-for-german-studies/events/negotiating-under
 standing-responding-formulations
LOCATION:Insititut für Deutsche Sprache Mannheim Germany
SUMMARY:Negotiating Understanding: Responding to Formulations in Interactio
 n
CLASS:PUBLIC
DESCRIPTION:CONVERSATION ANALYSIS RESEARCH WORKSHOP \n\n“Formulations”
  in spoken interaction propose an understanding of\nsome state of affairs 
 — of what another person has been telling or\ndoing. This workshop exam
 ines a broad range of such sequences in\nwhich an understanding is formula
 ted in conversation and then accepted\nor rejected. Such sequences allow 
 us to trace how shared meaning and\nunderstanding is constructed in everyd
 ay interaction. 
DTSTAMP:20260424T172511Z
END:VEVENT
END:VCALENDAR