BEGIN:VCALENDAR
VERSION:2.0
PRODID:-//Drupal iCal API//EN
X-WR-CALNAME:Events items teaser
X-WR-TIMEZONE:America/Toronto
BEGIN:VTIMEZONE
TZID:America/Toronto
X-LIC-LOCATION:America/Toronto
BEGIN:DAYLIGHT
TZNAME:EDT
TZOFFSETFROM:-0500
TZOFFSETTO:-0400
DTSTART:20170312T070000
END:DAYLIGHT
BEGIN:STANDARD
TZNAME:EST
TZOFFSETFROM:-0400
TZOFFSETTO:-0500
DTSTART:20161106T060000
END:STANDARD
END:VTIMEZONE
BEGIN:VEVENT
UID:69d745c9e5af1
DTSTART;TZID=America/Toronto:20170914T150000
SEQUENCE:0
TRANSP:TRANSPARENT
DTEND;TZID=America/Toronto:20170914T150000
URL:https://uwaterloo.ca/centre-for-german-studies/events/antisemitism-germ
 anys-new-right-history-present
LOCATION:ML - Modern Languages\, Room 245 University of Waterloo Waterloo O
 N N2L 3G1 Canada
SUMMARY:Antisemitism in Germany's \"New Right.\" A History of the Present
CLASS:PUBLIC
DESCRIPTION:A lecture by Marcus Funck.
DTSTAMP:20260409T062305Z
END:VEVENT
END:VCALENDAR