BEGIN:VCALENDAR
VERSION:2.0
PRODID:-//Drupal iCal API//EN
X-WR-CALNAME:Events items teaser
X-WR-TIMEZONE:America/Toronto
BEGIN:VTIMEZONE
TZID:America/Toronto
X-LIC-LOCATION:America/Toronto
BEGIN:DAYLIGHT
TZNAME:EDT
TZOFFSETFROM:-0500
TZOFFSETTO:-0400
DTSTART:20200308T070000
END:DAYLIGHT
BEGIN:STANDARD
TZNAME:EST
TZOFFSETFROM:-0400
TZOFFSETTO:-0500
DTSTART:20201101T060000
END:STANDARD
END:VTIMEZONE
BEGIN:VEVENT
UID:69ea81c38534b
DTSTART;TZID=America/Toronto:20201207T090000
SEQUENCE:0
TRANSP:TRANSPARENT
DTEND;TZID=America/Toronto:20201207T090000
URL:https://uwaterloo.ca/centre-for-german-studies/events/germanic-and-slav
 ic-studies-uwaterloo-virtual-transatlantic
SUMMARY:Germanic and Slavic Studies UWaterloo: Virtual Transatlantic Sympos
 ium
CLASS:PUBLIC
DESCRIPTION:On Monday\, December 7th\, the Germanic and Slavic Studies Depa
 rtment is\nhosting its first virtual Transatlantic Symposium via Zoom. Sta
 rting\nfrom 9:00AM EST\, our Canadian and German master’s students will 
 give\nan insight into their current research.
DTSTAMP:20260423T203203Z
END:VEVENT
END:VCALENDAR