BEGIN:VCALENDAR
VERSION:2.0
PRODID:-//Drupal iCal API//EN
X-WR-CALNAME:Events items teaser
X-WR-TIMEZONE:America/Toronto
BEGIN:VTIMEZONE
TZID:America/Toronto
X-LIC-LOCATION:America/Toronto
BEGIN:DAYLIGHT
TZNAME:EDT
TZOFFSETFROM:-0500
TZOFFSETTO:-0400
DTSTART:20210314T070000
END:DAYLIGHT
BEGIN:STANDARD
TZNAME:EST
TZOFFSETFROM:-0400
TZOFFSETTO:-0500
DTSTART:20211107T060000
END:STANDARD
END:VTIMEZONE
BEGIN:VEVENT
UID:69eb65921cac5
DTSTART;TZID=America/Toronto:20220120T113000
SEQUENCE:0
TRANSP:TRANSPARENT
DTEND;TZID=America/Toronto:20220120T113000
URL:https://uwaterloo.ca/centre-for-german-studies/events/critical-disabili
 ty-studies-intersections-theory-and-lived
SUMMARY:Critical Disability Studies: The Intersections of Theory and Lived\
 nExperience
CLASS:PUBLIC
DESCRIPTION:DIS/ABILITY IN GERMAN LITERATURE - LECTURE SERIES (1)
DTSTAMP:20260424T124402Z
END:VEVENT
END:VCALENDAR